BEGIN:VCALENDAR
VERSION:2.0
PRODID:-//85.13.164.143//NONSGML kigkonsult.se iCalcreator 2.41.92//
CALSCALE:GREGORIAN
METHOD:PUBLISH
UID:61336464-3563-4235-b638-636537663434
X-WR-TIMEZONE:Europe/Berlin
BEGIN:VEVENT
UID:37393534-3134-4363-a266-633763363532
DTSTAMP:20260421T082103Z
DTSTART;TZID=Europe/Berlin:20240113T000000
DTEND;TZID=Europe/Berlin:20240115T000000
LOCATION:Sächsischer Landtag\, Plenarsaal
SUMMARY:2. Arbeitstagung „Varroaresistenz 2033“
END:VEVENT
END:VCALENDAR
