BEGIN:VCALENDAR
VERSION:2.0
PRODID:-//85.13.164.143//NONSGML kigkonsult.se iCalcreator 2.41.92//
CALSCALE:GREGORIAN
METHOD:PUBLISH
UID:38353261-3965-4838-b763-626637356635
X-WR-TIMEZONE:Europe/Berlin
BEGIN:VEVENT
UID:38366561-6235-4236-b134-383961313266
DTSTAMP:20260421T081614Z
DTSTART;TZID=Europe/Berlin:20240711T000000
DTEND;TZID=Europe/Berlin:20240723T000000
LOCATION:Gelände des ehemaligen Freibades in Bohnitzsch
SUMMARY:Ausgabe der Bienen Medikamente
END:VEVENT
END:VCALENDAR
